BEGIN:VCALENDAR
VERSION:1.0
PRODID:Open2CKalenderExportV11
BEGIN:VEVENT
DTSTAMP:20260423T115101Z
DTSTART:20261018T140000Z
DTEND:20261018T160000Z
CATEGORIES:Verschiedenes
SUMMARY:Heimatmuseum geöffnet - Dauerausstellung + Sonderausstellung
DESCRIPTION: | Organisator   Heimatverein Hergensweiler e. V.
LOCATION:Heimatmuseum 
 Dorfstraße 20
 88138 Hergensweiler
UID:40d7a3e4eb4c3dfc82b2fd1ed26add06-1e2b2d5dcfd60ed834a8f6e4b8b01145
PRIORITY:3
END:VEVENT
END:VCALENDAR
