BEGIN:VCALENDAR
VERSION:1.0
PRODID:Open2CKalenderExportV11
BEGIN:VEVENT
DTSTAMP:20260423T115021Z
DTSTART:20260920T140000Z
DTEND:20260920T160000Z
CATEGORIES:Verschiedenes
SUMMARY:Heimatmuseum geöffnet - Dauerausstellung + Sonderausstellung
DESCRIPTION: | Organisator   Heimatverein Hergensweiler e. V.
LOCATION:Heimatmuseum 
 Dorfstraße 20
 88138 Hergensweiler
UID:a78523d8355cc11e05021d7c8427df96-1e2b2d5dcfd60ed834a8f6e4b8b01145
PRIORITY:3
END:VEVENT
END:VCALENDAR
