BEGIN:VCALENDAR
VERSION:1.0
PRODID:Open2CKalenderExportV11
BEGIN:VEVENT
DTSTAMP:20260423T114833Z
DTSTART:20260719T140000Z
DTEND:20260719T160000Z
CATEGORIES:Verschiedenes
SUMMARY:Heimatmuseum geöffnet - Dauerausstellung + Sonderausstellung
DESCRIPTION: | Organisator   Heimatverein Hergensweiler e. V.
LOCATION:Heimatmuseum 
 Dorfstraße 20
 88138 Hergensweiler
UID:3f18e8f1a3ca50d83f649071df7158d8-1e2b2d5dcfd60ed834a8f6e4b8b01145
PRIORITY:3
END:VEVENT
END:VCALENDAR
